BEGIN:VCALENDAR
VERSION:2.0
PRODID:SchoolNow
CALSCALE:GREGORIAN
BEGIN:VEVENT
UID:1d4943ae-e4cb-11f0-bc40-0a58a9feac02
DTSTAMP:20251229T155636Z
SUMMARY:CDD Board Meeting - May 2025
LOCATION:The Offices of Cameratta Companies located at 21101 Design Parc La
 ne\, Suite 103 Estero\, FL 33928
URL;VALUE=URI:https://www.kingstononecdd.com/calendar/8827597/cdd-board-mee
 ting-may-2025
DTSTART:20250521T180000Z
DTEND:20250521T190000Z
ATTACH;FILENAME=2025-05-21 Kingstone One Agenda.pdf;FMTTYPE=application/pdf
 :https://campussuite-storage.s3.amazonaws.com/prod/1559297/294831f2-ba72-1
 1f0-befc-0a58a9feac02/3036142/a86be194-bf28-11f0-be96-0e33ce6fd91d/file/20
 25-05-21 Kingstone One Agenda.pdf
ATTACH;FILENAME=2025-05-21 Kingston One Agenda Package.pdf;FMTTYPE=applicat
 ion/pdf:https://campussuite-storage.s3.amazonaws.com/prod/1559297/294831f2
 -ba72-11f0-befc-0a58a9feac02/3055703/8e9e6d52-e4cd-11f0-bc3c-0a58a9feac02/
 file/2025-05-21 Kingston One Agenda Package.pdf
END:VEVENT
END:VCALENDAR
